BEGIN:VCALENDAR
VERSION:2.0
PRODID:-//Love INC Brevard County - ECPv6.15.18//NONSGML v1.0//EN
CALSCALE:GREGORIAN
METHOD:PUBLISH
X-WR-CALNAME:Love INC Brevard County
X-ORIGINAL-URL:https://loveincbrevard.com
X-WR-CALDESC:Events for Love INC Brevard County
REFRESH-INTERVAL;VALUE=DURATION:PT1H
X-Robots-Tag:noindex
X-PUBLISHED-TTL:PT1H
BEGIN:VTIMEZONE
TZID:UTC
BEGIN:STANDARD
TZOFFSETFROM:+0000
TZOFFSETTO:+0000
TZNAME:UTC
DTSTART:20240101T000000
END:STANDARD
END:VTIMEZONE
BEGIN:VEVENT
DTSTART;TZID=UTC:20250531T190000
DTEND;TZID=UTC:20250531T210000
DTSTAMP:20260422T184542
CREATED:20250417T164718Z
LAST-MODIFIED:20250417T165251Z
UID:10000065-1748718000-1748725200@loveincbrevard.com
SUMMARY:The Grace Experience with Matthew West
DESCRIPTION:Join Love INC of Brevard & MPACT Ministries for a night of inspiration and worship with 5 time Grammy nominee Matthew West at The Grace Experience.  The night will be a moving tribute to the power of Christ and how He changes lives.
URL:https://loveincbrevard.com/event/matthew-west/
LOCATION:Maxwell C. King Center for the Performing Arts\, 3865 North Wickham Road\, Melbourne\, 32935\, United States
CATEGORIES:Partner Event
ATTACH;FMTTYPE=image/jpeg:https://loveincbrevard.com/wp-content/uploads/2025/04/Matthew_West_King_Center_Website_NewPic-d01c02527d-e1744908679338.jpg
ORGANIZER;CN="MPACT Ministries":MAILTO:mpactmen@mpactministries.org
END:VEVENT
END:VCALENDAR