BEGIN:VCALENDAR
VERSION:2.0
PRODID:-//Love INC Brevard County - ECPv6.15.18//NONSGML v1.0//EN
CALSCALE:GREGORIAN
METHOD:PUBLISH
X-WR-CALNAME:Love INC Brevard County
X-ORIGINAL-URL:https://loveincbrevard.com
X-WR-CALDESC:Events for Love INC Brevard County
REFRESH-INTERVAL;VALUE=DURATION:PT1H
X-Robots-Tag:noindex
X-PUBLISHED-TTL:PT1H
BEGIN:VTIMEZONE
TZID:UTC
BEGIN:STANDARD
TZOFFSETFROM:+0000
TZOFFSETTO:+0000
TZNAME:UTC
DTSTART:20230101T000000
END:STANDARD
END:VTIMEZONE
BEGIN:VEVENT
DTSTART;TZID=UTC:20260204T100000
DTEND;TZID=UTC:20260204T110000
DTSTAMP:20260422T194029
CREATED:20260116T160107Z
LAST-MODIFIED:20260116T160107Z
UID:10000095-1770199200-1770202800@loveincbrevard.com
SUMMARY:Monthly Chapel Service
DESCRIPTION:We warmly invite you to join us for our Monthly Chapel Service at Love INC of Brevard! This is a special time for us to come together in faith\, fellowship\, and reflection as we seek to uplift and support one another in our community. \nWe are delighted to announce that this month’s devotion will be provided by: Pastor Jenny Zentz of Rock Harbor Church.
URL:https://loveincbrevard.com/event/monthly-chapel-service-15/
LOCATION:Love INC of Brevard\, 830 N. Apollo Blvd.\, Melbourne\, FL\, 32935\, United States
CATEGORIES:Monthly Chapel Service
ATTACH;FMTTYPE=image/jpeg:https://loveincbrevard.com/wp-content/uploads/2024/06/Monthly_Chapel.jpg
ORGANIZER;CN="Love INC of Brevard":MAILTO:communications@loveincbrevard.com
END:VEVENT
BEGIN:VEVENT
DTSTART;TZID=UTC:20260107T100000
DTEND;TZID=UTC:20260107T110000
DTSTAMP:20260422T194029
CREATED:20260105T201451Z
LAST-MODIFIED:20260105T201451Z
UID:10000093-1767780000-1767783600@loveincbrevard.com
SUMMARY:Monthly Chapel Service
DESCRIPTION:We warmly invite you to join us for our Monthly Chapel Service at Love INC of Brevard! This is a special time for us to come together in faith\, fellowship\, and reflection as we seek to uplift and support one another in our community. \nWe are delighted to announce that this month’s devotion will be provided by: Dr. Tim Franklin of Freedom Christian Center.
URL:https://loveincbrevard.com/event/monthly-chapel-service-14/
LOCATION:Love INC of Brevard\, 830 N. Apollo Blvd.\, Melbourne\, FL\, 32935\, United States
CATEGORIES:Monthly Chapel Service
ATTACH;FMTTYPE=image/jpeg:https://loveincbrevard.com/wp-content/uploads/2024/06/Monthly_Chapel.jpg
ORGANIZER;CN="Love INC of Brevard":MAILTO:communications@loveincbrevard.com
END:VEVENT
BEGIN:VEVENT
DTSTART;TZID=UTC:20251105T100000
DTEND;TZID=UTC:20251105T110000
DTSTAMP:20260422T194029
CREATED:20251006T200006Z
LAST-MODIFIED:20251006T200027Z
UID:10000086-1762336800-1762340400@loveincbrevard.com
SUMMARY:Monthly Chapel Service
DESCRIPTION:We warmly invite you to join us for our Monthly Chapel Service at Love INC of Brevard! This is a special time for us to come together in faith\, fellowship\, and reflection as we seek to uplift and support one another in our community. \nWe are delighted to announce that this month’s devotion will be provided by: Pastor Betsy Delgado of The House Church.
URL:https://loveincbrevard.com/event/monthly-chapel-service-13/
LOCATION:Love INC of Brevard\, 830 N. Apollo Blvd.\, Melbourne\, FL\, 32935\, United States
CATEGORIES:Monthly Chapel Service
ATTACH;FMTTYPE=image/jpeg:https://loveincbrevard.com/wp-content/uploads/2024/06/Monthly_Chapel.jpg
ORGANIZER;CN="Love INC of Brevard":MAILTO:communications@loveincbrevard.com
END:VEVENT
BEGIN:VEVENT
DTSTART;TZID=UTC:20251001T100000
DTEND;TZID=UTC:20251001T110000
DTSTAMP:20260422T194029
CREATED:20251001T191759Z
LAST-MODIFIED:20251001T191759Z
UID:10000083-1759312800-1759316400@loveincbrevard.com
SUMMARY:Monthly Chapel Service
DESCRIPTION:We warmly invite you to join us for our Monthly Chapel Service at Love INC of Brevard! This is a special time for us to come together in faith\, fellowship\, and reflection as we seek to uplift and support one another in our community. \nWe are delighted to announce that this month’s devotion will be provided by: Pastor Jeff Pfingston of Life Church of Titusville.
URL:https://loveincbrevard.com/event/monthly-chapel-service-12/
LOCATION:Love INC of Brevard\, 830 N. Apollo Blvd.\, Melbourne\, FL\, 32935\, United States
CATEGORIES:Monthly Chapel Service
ATTACH;FMTTYPE=image/jpeg:https://loveincbrevard.com/wp-content/uploads/2024/06/Monthly_Chapel.jpg
ORGANIZER;CN="Love INC of Brevard":MAILTO:communications@loveincbrevard.com
END:VEVENT
BEGIN:VEVENT
DTSTART;TZID=UTC:20250903T100000
DTEND;TZID=UTC:20250903T110000
DTSTAMP:20260422T194029
CREATED:20250808T163422Z
LAST-MODIFIED:20250808T163442Z
UID:10000076-1756893600-1756897200@loveincbrevard.com
SUMMARY:Monthly Chapel Service
DESCRIPTION:We warmly invite you to join us for our Monthly Chapel Service at Love INC of Brevard! This is a special time for us to come together in faith\, fellowship\, and reflection as we seek to uplift and support one another in our community. \nWe are delighted to announce that this month’s devotion will be provided by: Pastor Pam Tooley of Melbourne First Church of the Nazarene
URL:https://loveincbrevard.com/event/monthly-chapel-service-11/
LOCATION:Love INC of Brevard\, 830 N. Apollo Blvd.\, Melbourne\, FL\, 32935\, United States
CATEGORIES:Monthly Chapel Service
ATTACH;FMTTYPE=image/jpeg:https://loveincbrevard.com/wp-content/uploads/2024/06/Monthly_Chapel.jpg
ORGANIZER;CN="Love INC of Brevard":MAILTO:communications@loveincbrevard.com
END:VEVENT
BEGIN:VEVENT
DTSTART;TZID=UTC:20250806T100000
DTEND;TZID=UTC:20250806T110000
DTSTAMP:20260422T194029
CREATED:20250721T183209Z
LAST-MODIFIED:20250721T183209Z
UID:10000073-1754474400-1754478000@loveincbrevard.com
SUMMARY:Monthly Chapel Service
DESCRIPTION:We warmly invite you to join us for our Monthly Chapel Service at Love INC of Brevard! This is a special time for us to come together in faith\, fellowship\, and reflection as we seek to uplift and support one another in our community. \nWe are delighted to announce that this month’s devotion will be provided by: Pastor Michael Carey of Church in the Wild.
URL:https://loveincbrevard.com/event/monthly-chapel-service-10/
LOCATION:Love INC of Brevard\, 830 N. Apollo Blvd.\, Melbourne\, FL\, 32935\, United States
CATEGORIES:Monthly Chapel Service
ATTACH;FMTTYPE=image/jpeg:https://loveincbrevard.com/wp-content/uploads/2024/06/Monthly_Chapel.jpg
ORGANIZER;CN="Love INC of Brevard":MAILTO:communications@loveincbrevard.com
END:VEVENT
BEGIN:VEVENT
DTSTART;TZID=UTC:20250702T100000
DTEND;TZID=UTC:20250702T110000
DTSTAMP:20260422T194029
CREATED:20250618T191853Z
LAST-MODIFIED:20250618T210313Z
UID:10000066-1751450400-1751454000@loveincbrevard.com
SUMMARY:Monthly Chapel Service
DESCRIPTION:We warmly invite you to join us for our Monthly Chapel Service at Love INC of Brevard! This is a special time for us to come together in faith\, fellowship\, and reflection as we seek to uplift and support one another in our community. \nWe are delighted to announce that this month’s devotion will be provided by: Adam Cronan of Fire Starter Ministries.
URL:https://loveincbrevard.com/event/monthly-chapel-service-9/
LOCATION:Love INC of Brevard\, 830 N. Apollo Blvd.\, Melbourne\, FL\, 32935\, United States
CATEGORIES:Monthly Chapel Service
ATTACH;FMTTYPE=image/jpeg:https://loveincbrevard.com/wp-content/uploads/2024/06/Monthly_Chapel.jpg
ORGANIZER;CN="Love INC of Brevard":MAILTO:communications@loveincbrevard.com
END:VEVENT
BEGIN:VEVENT
DTSTART;TZID=UTC:20250402T100000
DTEND;TZID=UTC:20250402T110000
DTSTAMP:20260422T194029
CREATED:20250303T210944Z
LAST-MODIFIED:20250303T210944Z
UID:10000060-1743588000-1743591600@loveincbrevard.com
SUMMARY:Monthly Chapel Service
DESCRIPTION:We warmly invite you to join us for our Monthly Chapel Service at Love INC of Brevard! This is a special time for us to come together in faith\, fellowship\, and reflection as we seek to uplift and support one another in our community. \nWe are delighted to announce that this month’s devotion will be provided by: Pastor Bruce Cadle from Fresh Start Church.
URL:https://loveincbrevard.com/event/monthly-chapel-service-8/
LOCATION:Love INC of Brevard\, 830 N. Apollo Blvd.\, Melbourne\, FL\, 32935\, United States
CATEGORIES:Monthly Chapel Service
ATTACH;FMTTYPE=image/jpeg:https://loveincbrevard.com/wp-content/uploads/2024/06/Monthly_Chapel.jpg
ORGANIZER;CN="Love INC of Brevard":MAILTO:communications@loveincbrevard.com
END:VEVENT
BEGIN:VEVENT
DTSTART;TZID=UTC:20250305T100000
DTEND;TZID=UTC:20250305T110000
DTSTAMP:20260422T194029
CREATED:20250226T190012Z
LAST-MODIFIED:20250226T190442Z
UID:10000052-1741168800-1741172400@loveincbrevard.com
SUMMARY:Monthly Chapel Service
DESCRIPTION:We warmly invite you to join us for our Monthly Chapel Service at Love INC of Brevard! This is a special time for us to come together in faith\, fellowship\, and reflection as we seek to uplift and support one another in our community. \nWe are delighted to announce that this month’s devotion will be provided by: Pastor Aaron Smith from Brevard Worship Center
URL:https://loveincbrevard.com/event/monthly-chapel-service-7/
LOCATION:Love INC of Brevard\, 830 N. Apollo Blvd.\, Melbourne\, FL\, 32935\, United States
CATEGORIES:Monthly Chapel Service
ATTACH;FMTTYPE=image/jpeg:https://loveincbrevard.com/wp-content/uploads/2024/06/Monthly_Chapel.jpg
ORGANIZER;CN="Love INC of Brevard":MAILTO:communications@loveincbrevard.com
END:VEVENT
BEGIN:VEVENT
DTSTART;TZID=UTC:20250205T100000
DTEND;TZID=UTC:20250205T110000
DTSTAMP:20260422T194029
CREATED:20250108T201047Z
LAST-MODIFIED:20250226T190349Z
UID:10000050-1738749600-1738753200@loveincbrevard.com
SUMMARY:Monthly Chapel Service
DESCRIPTION:We warmly invite you to join us for our Monthly Chapel Service at Love INC of Brevard! This is a special time for us to come together in faith\, fellowship\, and reflection as we seek to uplift and support one another in our community. \nWe are delighted to announce that this month’s devotion will be provided by: Pastor Jim Campbell from Bay West Church
URL:https://loveincbrevard.com/event/monthly-chapel-service-6/
LOCATION:Love INC of Brevard\, 830 N. Apollo Blvd.\, Melbourne\, FL\, 32935\, United States
CATEGORIES:Monthly Chapel Service
ATTACH;FMTTYPE=image/jpeg:https://loveincbrevard.com/wp-content/uploads/2024/06/Monthly_Chapel.jpg
ORGANIZER;CN="Love INC of Brevard":MAILTO:communications@loveincbrevard.com
END:VEVENT
BEGIN:VEVENT
DTSTART;TZID=UTC:20241204T100000
DTEND;TZID=UTC:20241204T110000
DTSTAMP:20260422T194029
CREATED:20241111T204611Z
LAST-MODIFIED:20241111T204707Z
UID:10000049-1733306400-1733310000@loveincbrevard.com
SUMMARY:Monthly Chapel Service
DESCRIPTION:We warmly invite you to join us for our Monthly Chapel Service at Love INC of Brevard! This is a special time for us to come together in faith\, fellowship\, and reflection as we seek to uplift and support one another in our community. \nWe are delighted to announce that this month’s devotion will be provided by: Pastor Jim Begley from Wholeness to Freedom
URL:https://loveincbrevard.com/event/monthly-chapel-service-5/
LOCATION:Love INC of Brevard\, 830 N. Apollo Blvd.\, Melbourne\, FL\, 32935\, United States
CATEGORIES:Monthly Chapel Service
ATTACH;FMTTYPE=image/jpeg:https://loveincbrevard.com/wp-content/uploads/2024/06/Monthly_Chapel.jpg
ORGANIZER;CN="Love INC of Brevard":MAILTO:communications@loveincbrevard.com
END:VEVENT
BEGIN:VEVENT
DTSTART;TZID=UTC:20241107T100000
DTEND;TZID=UTC:20241107T110000
DTSTAMP:20260422T194029
CREATED:20241104T133143Z
LAST-MODIFIED:20241104T133143Z
UID:10000047-1730973600-1730977200@loveincbrevard.com
SUMMARY:Monthly Chapel Service
DESCRIPTION:We warmly invite you to join us for our Monthly Chapel Service at Love INC of Brevard! This is a special time for us to come together in faith\, fellowship\, and reflection as we seek to uplift and support one another in our community. \nWe are delighted to announce that this month’s devotion will be provided by: Pastor Troy Robinson from Lifepoint Church
URL:https://loveincbrevard.com/event/monthly-chapel-service-4/
LOCATION:Love INC of Brevard\, 830 N. Apollo Blvd.\, Melbourne\, FL\, 32935\, United States
CATEGORIES:Monthly Chapel Service
ATTACH;FMTTYPE=image/jpeg:https://loveincbrevard.com/wp-content/uploads/2024/06/Monthly_Chapel.jpg
ORGANIZER;CN="Love INC of Brevard":MAILTO:communications@loveincbrevard.com
END:VEVENT
BEGIN:VEVENT
DTSTART;TZID=UTC:20241003T100000
DTEND;TZID=UTC:20241003T110000
DTSTAMP:20260422T194029
CREATED:20241001T171010Z
LAST-MODIFIED:20241001T171135Z
UID:10000041-1727949600-1727953200@loveincbrevard.com
SUMMARY:Monthly Chapel Service
DESCRIPTION:We warmly invite you to join us for our Monthly Chapel Service at Love INC of Brevard! This is a special time for us to come together in faith\, fellowship\, and reflection as we seek to uplift and support one another in our community. \nWe are delighted to announce that this month’s devotion will be provided by: Pastor Brandon Harris from Melbourne Community Church.
URL:https://loveincbrevard.com/event/monthly-chapel-service-3/
LOCATION:Love INC of Brevard\, 830 N. Apollo Blvd.\, Melbourne\, FL\, 32935\, United States
CATEGORIES:Monthly Chapel Service
ATTACH;FMTTYPE=image/jpeg:https://loveincbrevard.com/wp-content/uploads/2024/06/Monthly_Chapel.jpg
ORGANIZER;CN="Love INC of Brevard":MAILTO:communications@loveincbrevard.com
END:VEVENT
BEGIN:VEVENT
DTSTART;TZID=UTC:20240905T100000
DTEND;TZID=UTC:20240905T110000
DTSTAMP:20260422T194029
CREATED:20240815T153543Z
LAST-MODIFIED:20240815T153543Z
UID:10000040-1725530400-1725534000@loveincbrevard.com
SUMMARY:Monthly Chapel Service
DESCRIPTION:We warmly invite you to join us for our Monthly Chapel Service at Love INC of Brevard! This is a special time for us to come together in faith\, fellowship\, and reflection as we seek to uplift and support one another in our community. \nWe are delighted to announce that this month’s devotion will be provided by: Pastor Tysen Lindsey from South Patrick Baptist Church.
URL:https://loveincbrevard.com/event/monthly-chapel-service-2/
LOCATION:Love INC of Brevard\, 830 N. Apollo Blvd.\, Melbourne\, FL\, 32935\, United States
CATEGORIES:Monthly Chapel Service
ATTACH;FMTTYPE=image/jpeg:https://loveincbrevard.com/wp-content/uploads/2024/06/Monthly_Chapel.jpg
ORGANIZER;CN="Love INC of Brevard":MAILTO:communications@loveincbrevard.com
END:VEVENT
BEGIN:VEVENT
DTSTART;TZID=UTC:20240801T100000
DTEND;TZID=UTC:20240801T110000
DTSTAMP:20260422T194029
CREATED:20240627T203924Z
LAST-MODIFIED:20240711T190308Z
UID:10000007-1722506400-1722510000@loveincbrevard.com
SUMMARY:Monthly Chapel Service
DESCRIPTION:We warmly invite you to join us for our Monthly Chapel Service at Love INC of Brevard! This is a special time for us to come together in faith\, fellowship\, and reflection as we seek to uplift and support one another in our community. \nWe are delighted to announce that this month’s devotion will be provided by: Pastor Tony Hauck from Church on the Rock.
URL:https://loveincbrevard.com/event/monthly-chapel-service/
LOCATION:Love INC of Brevard\, 830 N. Apollo Blvd.\, Melbourne\, FL\, 32935\, United States
CATEGORIES:Monthly Chapel Service
ATTACH;FMTTYPE=image/jpeg:https://loveincbrevard.com/wp-content/uploads/2024/06/Monthly_Chapel.jpg
ORGANIZER;CN="Love INC of Brevard":MAILTO:communications@loveincbrevard.com
END:VEVENT
END:VCALENDAR